BEGIN:VCALENDAR
VERSION:2.0
PRODID:-//eventon.com NONSGML v1.0//EN
BEGIN:VEVENT
UID:69eb3758830bb
DTSTAMP:20260424T042648
DTSTART:20190925T213000Z
DTEND:20190925T233000Z
LOCATION:Oak Park Neighborhood Center 1701 Oak Park Ave. N
SUMMARY:Hiring Fair for Census 2020
DESCRIPTION: Partnership Specialists from the Census Bureau and Pillsbury United staff will be available to help you fill out job applications\,  speak to you about the different positions available\,  and answer any questions! These jobs are a great way to make some extra cash while accommodating your schedule. Plus\,  it's a[..]
END:VEVENT
END:VCALENDAR